BEGIN:VCALENDAR
VERSION:2.0
PRODID:-//Belleville Wix Academy PTA - ECPv6.15.16.1//NONSGML v1.0//EN
CALSCALE:GREGORIAN
METHOD:PUBLISH
X-WR-CALNAME:Belleville Wix Academy PTA
X-ORIGINAL-URL:https://bwapta.co.uk
X-WR-CALDESC:Events for Belleville Wix Academy PTA
REFRESH-INTERVAL;VALUE=DURATION:PT1H
X-Robots-Tag:noindex
X-PUBLISHED-TTL:PT1H
BEGIN:VTIMEZONE
TZID:Europe/London
BEGIN:DAYLIGHT
TZOFFSETFROM:+0000
TZOFFSETTO:+0100
TZNAME:BST
DTSTART:20230326T010000
END:DAYLIGHT
BEGIN:STANDARD
TZOFFSETFROM:+0100
TZOFFSETTO:+0000
TZNAME:GMT
DTSTART:20231029T010000
END:STANDARD
BEGIN:DAYLIGHT
TZOFFSETFROM:+0000
TZOFFSETTO:+0100
TZNAME:BST
DTSTART:20240331T010000
END:DAYLIGHT
BEGIN:STANDARD
TZOFFSETFROM:+0100
TZOFFSETTO:+0000
TZNAME:GMT
DTSTART:20241027T010000
END:STANDARD
BEGIN:DAYLIGHT
TZOFFSETFROM:+0000
TZOFFSETTO:+0100
TZNAME:BST
DTSTART:20250330T010000
END:DAYLIGHT
BEGIN:STANDARD
TZOFFSETFROM:+0100
TZOFFSETTO:+0000
TZNAME:GMT
DTSTART:20251026T010000
END:STANDARD
END:VTIMEZONE
BEGIN:VEVENT
DTSTART;TZID=Europe/London:20240627T190000
DTEND;TZID=Europe/London:20240627T210000
DTSTAMP:20260422T020752
CREATED:20240427T180056Z
LAST-MODIFIED:20240626T102927Z
UID:908-1719514800-1719522000@bwapta.co.uk
SUMMARY:The Art Exhibition
DESCRIPTION:Join us for an exclusive evening celebrating the artistic achievements of our young talents. Each child has created a unique piece of art inspired by the Olympic Games. These masterpieces will be beautifully framed and available for purchase during our adults-only gallery evening. Experience a night of culture in a setting that echoes the sophistication of a fine art gallery. \nEvent page: https://bwapta.co.uk/the-2024-bwa-pta-art-exhibition/
URL:https://bwapta.co.uk/event/the-bwa-art-exhibition/
LOCATION:Belleville Wix Academy\, Wix Lane\, London\, SW4 0AJ\, United Kingdom
CATEGORIES:Parent Event
ATTACH;FMTTYPE=image/jpeg:https://bwapta.co.uk/wp-content/uploads/2024/04/20240613_PTA_ArtExpo_ParisTitle.jpg
END:VEVENT
END:VCALENDAR