BEGIN:VCALENDAR
VERSION:2.0
PRODID:-//Belleville Wix Academy PTA - ECPv6.15.20//NONSGML v1.0//EN
CALSCALE:GREGORIAN
METHOD:PUBLISH
X-ORIGINAL-URL:https://bwapta.co.uk
X-WR-CALDESC:Events for Belleville Wix Academy PTA
REFRESH-INTERVAL;VALUE=DURATION:PT1H
X-Robots-Tag:noindex
X-PUBLISHED-TTL:PT1H
BEGIN:VTIMEZONE
TZID:Europe/London
BEGIN:DAYLIGHT
TZOFFSETFROM:+0000
TZOFFSETTO:+0100
TZNAME:BST
DTSTART:20230326T010000
END:DAYLIGHT
BEGIN:STANDARD
TZOFFSETFROM:+0100
TZOFFSETTO:+0000
TZNAME:GMT
DTSTART:20231029T010000
END:STANDARD
BEGIN:DAYLIGHT
TZOFFSETFROM:+0000
TZOFFSETTO:+0100
TZNAME:BST
DTSTART:20240331T010000
END:DAYLIGHT
BEGIN:STANDARD
TZOFFSETFROM:+0100
TZOFFSETTO:+0000
TZNAME:GMT
DTSTART:20241027T010000
END:STANDARD
BEGIN:DAYLIGHT
TZOFFSETFROM:+0000
TZOFFSETTO:+0100
TZNAME:BST
DTSTART:20250330T010000
END:DAYLIGHT
BEGIN:STANDARD
TZOFFSETFROM:+0100
TZOFFSETTO:+0000
TZNAME:GMT
DTSTART:20251026T010000
END:STANDARD
END:VTIMEZONE
BEGIN:VEVENT
DTSTART;TZID=Europe/London:20241129T080000
DTEND;TZID=Europe/London:20241129T210000
DTSTAMP:20260422T221116
CREATED:20240916T172146Z
LAST-MODIFIED:20241126T142646Z
UID:1793-1732867200-1732914000@bwapta.co.uk
SUMMARY:BWA PTA - Toy Donation to Support Local Charities
DESCRIPTION:On Friday 29th November\, together with APL Ecole de Wix\, we will be supporting HomeStart Wandsworth\, Young People Matter and Streatham Youth & Community Trust \nwith a COLLECTION OF NEW TOYS & GAMES\, for children aged 0 to 16 years old\, taking place at school at drop off. \nThe festive period is difficult for many\, with more and more families struggling to make ends meet. This is why we are very happy to partner with 3 fantastic local charities again this year. \nThese organisations are working all year round to help and support disadvantaged families. The new toys and games will all be distributed to children at Christmas parties hosted by the charities in December. \nFor many of these children\, it will be the only present they get this year. We would be most grateful if you wanted to help and bring a smile to their faces! \nTo ensure every child receives a present\, we would like to ask each year group to buy for a specific age range: \n\nNursery & Reception: 0 to 4 years old\nYear 1 & Year 2: 5 to 7 years old\nYear 3\, Year 4 & Year 5: 8 to 11 years old\nYear 6: 11 to 16 years old\n\n\n\nFor some inspiration\, here is a wish list shared by the charities: \n\nFor younger ones: baby sensory toys\, soft toys\, games\, arts & crafts\, puzzles\, books\, cars\, building blocks\, action figures\, …\nFor older ones (10+): books\, board games\, sports equipment (balls\, rackets\, etc.)\, selection boxes\, bath sets\, re-usable water bottles\, …\n\nAll gifts must be NEW and unwrapped (but you can add a bow if you’d like to). \nPlease note that for health & safety reasons\, the charities cannot accept clothes or second-hand/used items. \nIn return for their donations\, children are invited to wear their favourite Christmas jumper or festive outfit at school that day. \nMany thanks for your kind and generous support! \n\n\n  \n\n\nOptional extra information for Nursery & Reception parents and carers \nHomeStart Wandsworth\, who is supporting 0 to 4 years old children\, have just done a new partnership with two local toy shops – Chalkboard and QT Toys – on Northcote Road.  \nBoth shops have a wishlist from the charity for that age group. Should you wish to support a local business as well\, simply ask for the wishlist and quote HomeStart Wandsworth when purchasing your gift.  
URL:https://bwapta.co.uk/event/bwa-pta-toy-donation-2024/
LOCATION:Belleville Wix Academy – School Gates
ATTACH;FMTTYPE=image/jpeg:https://bwapta.co.uk/wp-content/uploads/2024/09/toydonation.jpg
END:VEVENT
END:VCALENDAR