BEGIN:VCALENDAR
VERSION:2.0
PRODID:-//Belleville Wix Academy PTA - ECPv6.15.20//NONSGML v1.0//EN
CALSCALE:GREGORIAN
METHOD:PUBLISH
X-ORIGINAL-URL:https://bwapta.co.uk
X-WR-CALDESC:Events for Belleville Wix Academy PTA
REFRESH-INTERVAL;VALUE=DURATION:PT1H
X-Robots-Tag:noindex
X-PUBLISHED-TTL:PT1H
BEGIN:VTIMEZONE
TZID:Europe/London
BEGIN:DAYLIGHT
TZOFFSETFROM:+0000
TZOFFSETTO:+0100
TZNAME:BST
DTSTART:20230326T010000
END:DAYLIGHT
BEGIN:STANDARD
TZOFFSETFROM:+0100
TZOFFSETTO:+0000
TZNAME:GMT
DTSTART:20231029T010000
END:STANDARD
BEGIN:DAYLIGHT
TZOFFSETFROM:+0000
TZOFFSETTO:+0100
TZNAME:BST
DTSTART:20240331T010000
END:DAYLIGHT
BEGIN:STANDARD
TZOFFSETFROM:+0100
TZOFFSETTO:+0000
TZNAME:GMT
DTSTART:20241027T010000
END:STANDARD
BEGIN:DAYLIGHT
TZOFFSETFROM:+0000
TZOFFSETTO:+0100
TZNAME:BST
DTSTART:20250330T010000
END:DAYLIGHT
BEGIN:STANDARD
TZOFFSETFROM:+0100
TZOFFSETTO:+0000
TZNAME:GMT
DTSTART:20251026T010000
END:STANDARD
END:VTIMEZONE
BEGIN:VEVENT
DTSTART;TZID=Europe/London:20241115T080000
DTEND;TZID=Europe/London:20241115T090000
DTSTAMP:20260423T000744
CREATED:20240916T170605Z
LAST-MODIFIED:20241106T170417Z
UID:1790-1731657600-1731661200@bwapta.co.uk
SUMMARY:BWA PTA's BBC Children In Need: Charity Collection + Dress-up: Yellow/spotty or bright-coloured clothing item
DESCRIPTION:This year\, Children in Need is on Friday\, 15th November – and we invite all children to wear yellow\, spotty\, or bright-coloured clothes on the day. \nWe kindly ask pupils to bring in a donation to support the amazing work this charity does throughout the year. All funds collected on Friday will be donated to Children in Need. \nYou can donate cash or pay by card at both entrance gates on Friday morning during drop-off. \nThank you so much for your support and generosity!
URL:https://bwapta.co.uk/event/bwa-ptas-bbc-children-in-need-charity-collection/
LOCATION:Belleville Wix Academy – School Gates
ATTACH;FMTTYPE=image/jpeg:https://bwapta.co.uk/wp-content/uploads/2024/09/BrandGuidelines-e1726506300780.jpg
END:VEVENT
END:VCALENDAR